BEGIN:VCALENDAR
VERSION:2.0
PRODID:-//Lucie Sophie - ECPv6.14.1//NONSGML v1.0//EN
CALSCALE:GREGORIAN
METHOD:PUBLISH
X-ORIGINAL-URL:https://pooniam.fr
X-WR-CALDESC:Évènements pour Lucie Sophie
REFRESH-INTERVAL;VALUE=DURATION:PT1H
X-Robots-Tag:noindex
X-PUBLISHED-TTL:PT1H
BEGIN:VTIMEZONE
TZID:Europe/Helsinki
BEGIN:DAYLIGHT
TZOFFSETFROM:+0200
TZOFFSETTO:+0300
TZNAME:EEST
DTSTART:20230326T010000
END:DAYLIGHT
BEGIN:STANDARD
TZOFFSETFROM:+0300
TZOFFSETTO:+0200
TZNAME:EET
DTSTART:20231029T010000
END:STANDARD
END:VTIMEZONE
BEGIN:VEVENT
DTSTART;TZID=Europe/Helsinki:20231014T100000
DTEND;TZID=Europe/Helsinki:20231015T180000
DTSTAMP:20260420T015250
CREATED:20230919T102109Z
LAST-MODIFIED:20230919T102109Z
UID:217-1697277600-1697392800@pooniam.fr
SUMMARY:Salon du Livre de Morières-lès-Avignon
DESCRIPTION:Bonne nouvelle ! \nJ’accompagnerai Pénellope Van Haver et Maryse Weisser Macher sur ce salon du livre les 14 et 15 octobre prochains.
URL:https://pooniam.fr/event/salon-du-livre-de-morieres-les-avignon/
LOCATION:Espace Folard\, 677 rue Folard\, Morières-lès-avignon\, 84310\, France
CATEGORIES:Salon
ORGANIZER;CN="Association 'Au fil des Mots'":MAILTO:salondulivre.morieres@gmail.com
END:VEVENT
END:VCALENDAR