BEGIN:VCALENDAR
VERSION:2.0
PRODID:-//Lucie Sophie - ECPv6.14.1//NONSGML v1.0//EN
CALSCALE:GREGORIAN
METHOD:PUBLISH
X-ORIGINAL-URL:https://pooniam.fr
X-WR-CALDESC:Évènements pour Lucie Sophie
REFRESH-INTERVAL;VALUE=DURATION:PT1H
X-Robots-Tag:noindex
X-PUBLISHED-TTL:PT1H
BEGIN:VTIMEZONE
TZID:Europe/Helsinki
BEGIN:DAYLIGHT
TZOFFSETFROM:+0200
TZOFFSETTO:+0300
TZNAME:EEST
DTSTART:20230326T010000
END:DAYLIGHT
BEGIN:STANDARD
TZOFFSETFROM:+0300
TZOFFSETTO:+0200
TZNAME:EET
DTSTART:20231029T010000
END:STANDARD
END:VTIMEZONE
BEGIN:VEVENT
DTSTART;TZID=Europe/Helsinki:20231207T180000
DTEND;TZID=Europe/Helsinki:20231210T180000
DTSTAMP:20260419T224334
CREATED:20230919T111927Z
LAST-MODIFIED:20230919T111927Z
UID:221-1701972000-1702231200@pooniam.fr
SUMMARY:Fête des Lumières
DESCRIPTION:Je serai présente sur l’évènement incontournable qu’est la Fête des Lumières dans le cadre de plusieurs évènements autour de cette manifestation.
URL:https://pooniam.fr/event/fete-des-lumieres/
CATEGORIES:Autres
END:VEVENT
END:VCALENDAR